BEGIN:VCALENDAR
VERSION:2.0
PRODID:-//SKS - ECPv6.15.17.1//NONSGML v1.0//EN
CALSCALE:GREGORIAN
METHOD:PUBLISH
X-ORIGINAL-URL:https://smithkingsmore.org
X-WR-CALDESC:Events for SKS
REFRESH-INTERVAL;VALUE=DURATION:PT1H
X-Robots-Tag:noindex
X-PUBLISHED-TTL:PT1H
BEGIN:VTIMEZONE
TZID:UTC
BEGIN:STANDARD
TZOFFSETFROM:+0000
TZOFFSETTO:+0000
TZNAME:UTC
DTSTART:20230101T000000
END:STANDARD
END:VTIMEZONE
BEGIN:VEVENT
DTSTART;TZID=UTC:20241202T080000
DTEND;TZID=UTC:20241202T170000
DTSTAMP:20260423T103554
CREATED:20240403T140248Z
LAST-MODIFIED:20240409T024258Z
UID:1073-1733126400-1733158800@smithkingsmore.org
SUMMARY:SKSF Community Meetups
DESCRIPTION:We run English-language virtual (zoom) “Monday Meetups” on the first Monday of most months. We also regularly schedule meetings in Spanish and Portuguese. All interested patients\, family and friends are welcome. It’s a chance to come together with your community to share stories\, advice and support! Meetings are generally scheduled for 11am and 8pm EST – join our private Family & Friends Facebook page to get registration links. \n2024 schedule (tentative): \nMarch 4th \nApril 1st \nMay 6th \nJune 3rd \nAugust 5th \nOctober 7th \nNovember 4th \nDecember 2nd
URL:https://smithkingsmore.org/event/sksf-community-meetups-8/
END:VEVENT
BEGIN:VEVENT
DTSTART;TZID=UTC:20241104T080000
DTEND;TZID=UTC:20241104T170000
DTSTAMP:20260423T103554
CREATED:20240403T140208Z
LAST-MODIFIED:20240409T024522Z
UID:1071-1730707200-1730739600@smithkingsmore.org
SUMMARY:SKSF Community Meetups
DESCRIPTION:We run English-language virtual (zoom) “Monday Meetups” on the first Monday of most months. We also regularly schedule meetings in Spanish and Portuguese. All interested patients\, family and friends are welcome. It’s a chance to come together with your community to share stories\, advice and support! Meetings are generally scheduled for 11am and 8pm EST – join our private Family & Friends Facebook page to get registration links.g. \n2024 schedule (tentative): \nMarch 4th \nApril 1st \nMay 6th \nJune 3rd \nAugust 5th \nOctober 7th \nNovember 4th \nDecember 2nd
URL:https://smithkingsmore.org/event/sksf-community-meetups-7/
END:VEVENT
BEGIN:VEVENT
DTSTART;TZID=UTC:20241007T080000
DTEND;TZID=UTC:20241007T170000
DTSTAMP:20260423T103554
CREATED:20240403T140123Z
LAST-MODIFIED:20240409T024510Z
UID:1069-1728288000-1728320400@smithkingsmore.org
SUMMARY:SKSF Community Meetups
DESCRIPTION:We run English-language virtual (zoom) “Monday Meetups” on the first Monday of most months. We also regularly schedule meetings in Spanish and Portuguese. All interested patients\, family and friends are welcome. It’s a chance to come together with your community to share stories\, advice and support! Meetings are generally scheduled for 11am and 8pm EST – join our private Family & Friends Facebook page to get registration links. \n2024 schedule (tentative): \nMarch 4th \nApril 1st \nMay 6th \nJune 3rd \nAugust 5th \nOctober 7th \nNovember 4th \nDecember 2nd
URL:https://smithkingsmore.org/event/sksf-community-meetups-6/
END:VEVENT
BEGIN:VEVENT
DTSTART;TZID=UTC:20240805T080000
DTEND;TZID=UTC:20240805T170000
DTSTAMP:20260423T103554
CREATED:20240403T140059Z
LAST-MODIFIED:20240409T024456Z
UID:1067-1722844800-1722877200@smithkingsmore.org
SUMMARY:SKSF Community Meetups
DESCRIPTION:We run English-language virtual (zoom) “Monday Meetups” on the first Monday of most months. We also regularly schedule meetings in Spanish and Portuguese. All interested patients\, family and friends are welcome. It’s a chance to come together with your community to share stories\, advice and support! Meetings are generally scheduled for 11am and 8pm EST – join our private Family & Friends Facebook page to get registration links. \n2024 schedule (tentative): \nMarch 4th \nApril 1st \nMay 6th \nJune 3rd \nAugust 5th \nOctober 7th \nNovember 4th \nDecember 2nd
URL:https://smithkingsmore.org/event/sksf-community-meetups-5/
END:VEVENT
BEGIN:VEVENT
DTSTART;TZID=UTC:20240603T080000
DTEND;TZID=UTC:20240603T170000
DTSTAMP:20260423T103554
CREATED:20240403T140033Z
LAST-MODIFIED:20240409T024443Z
UID:1065-1717401600-1717434000@smithkingsmore.org
SUMMARY:SKSF Community Meetups
DESCRIPTION:We run English-language virtual (zoom) “Monday Meetups” on the first Monday of most months. We also regularly schedule meetings in Spanish and Portuguese. All interested patients\, family and friends are welcome. It’s a chance to come together with your community to share stories\, advice and support! Meetings are generally scheduled for 11am and 8pm EST – join our private Family & Friends Facebook page to get registration links. \n2024 schedule (tentative): \nMarch 4th \nApril 1st \nMay 6th \nJune 3rd \nAugust 5th \nOctober 7th \nNovember 4th \nDecember 2nd
URL:https://smithkingsmore.org/event/sksf-community-meetups-4/
END:VEVENT
BEGIN:VEVENT
DTSTART;TZID=UTC:20240506T080000
DTEND;TZID=UTC:20240506T170000
DTSTAMP:20260423T103554
CREATED:20240403T140013Z
LAST-MODIFIED:20240409T024428Z
UID:1063-1714982400-1715014800@smithkingsmore.org
SUMMARY:SKSF Community Meetups
DESCRIPTION:We run English-language virtual (zoom) “Monday Meetups” on the first Monday of most months. We also regularly schedule meetings in Spanish and Portuguese. All interested patients\, family and friends are welcome. It’s a chance to come together with your community to share stories\, advice and support! Meetings are generally scheduled for 11am and 8pm EST – join our private Family & Friends Facebook page to get registration links. \n2024 schedule (tentative): \nMarch 4th \nApril 1st \nMay 6th \nJune 3rd \nAugust 5th \nOctober 7th \nNovember 4th \nDecember 2nd
URL:https://smithkingsmore.org/event/sksf-community-meetups-3/
END:VEVENT
BEGIN:VEVENT
DTSTART;TZID=UTC:20240401T080000
DTEND;TZID=UTC:20240401T170000
DTSTAMP:20260423T103554
CREATED:20240403T135953Z
LAST-MODIFIED:20240409T024415Z
UID:1061-1711958400-1711990800@smithkingsmore.org
SUMMARY:SKSF Community Meetups
DESCRIPTION:We run English-language virtual (zoom) “Monday Meetups” on the first Monday of most months. We also regularly schedule meetings in Spanish and Portuguese. All interested patients\, family and friends are welcome. It’s a chance to come together with your community to share stories\, advice and support! Meetings are generally scheduled for 11am and 8pm EST – join our private Family & Friends Facebook page to get registration links. \n2024 schedule (tentative): \nMarch 4th \nApril 1st \nMay 6th \nJune 3rd \nAugust 5th \nOctober 7th \nNovember 4th \nDecember 2nd
URL:https://smithkingsmore.org/event/sksf-community-meetups-2/
END:VEVENT
BEGIN:VEVENT
DTSTART;TZID=UTC:20240315T080000
DTEND;TZID=UTC:20240315T170000
DTSTAMP:20260423T103554
CREATED:20240124T144149Z
LAST-MODIFIED:20240221T153803Z
UID:513-1710489600-1710522000@smithkingsmore.org
SUMMARY:3rd International Family and Research Conference
DESCRIPTION:Our next Family and Research Conference will be hosted at Chicago’s Lurie Hospital\, April 13-14\, 2024. \nRegistration closes on Friday March 15th\, 2024.\nP \nlease email SKSFoundation@smithkingsmore.org for registration links and more details!
URL:https://smithkingsmore.org/event/3rd-international-family-and-research-conference/
ATTACH;FMTTYPE=image/jpeg:https://smithkingsmore.org/wp-content/uploads/2023/12/Research-Photo.jpg
END:VEVENT
BEGIN:VEVENT
DTSTART;TZID=UTC:20240304T080000
DTEND;TZID=UTC:20240304T170000
DTSTAMP:20260423T103554
CREATED:20240124T144135Z
LAST-MODIFIED:20240409T024350Z
UID:511-1709539200-1709571600@smithkingsmore.org
SUMMARY:SKSF Community Meetups
DESCRIPTION:We run English-language virtual (zoom) “Monday Meetups” on the first Monday of most months. We also regularly schedule meetings in Spanish and Portuguese. All interested patients\, family and friends are welcome. It’s a chance to come together with your community to share stories\, advice and support! Meetings are generally scheduled for 11am and 8pm EST – join our private Family & Friends Facebook page to get registration links. \n2024 schedule (tentative): \nMarch 4th \nApril 1st \nMay 6th \nJune 3rd \nAugust 5th \nOctober 7th \nNovember 4th \nDecember 2nd
URL:https://smithkingsmore.org/event/sksf-community-meetups/
ATTACH;FMTTYPE=image/jpeg:https://smithkingsmore.org/wp-content/uploads/2023/12/Research-Photo.jpg
END:VEVENT
END:VCALENDAR